BEGIN:VCALENDAR
VERSION:2.0
PRODID:-//wp-events-plugin.com//7.2.3.1//EN
TZID:Asia/Tokyo
X-WR-TIMEZONE:Asia/Tokyo
BEGIN:VEVENT
UID:1486@music-live.jp
DTSTART;TZID=Asia/Tokyo:20250201T183000
DTEND;TZID=Asia/Tokyo:20250201T210000
DTSTAMP:20250104T110506Z
URL:https://www.music-live.jp/events/eventid-103379/
SUMMARY:CRY OF THE SOUL 上原美穂(Vo) Jazz Vocal Live
DESCRIPTION:Mihoの魂の叫び、CRY OF THE SOUL.\n心の底から湧き
 出る情感、あなたはどう受け止めるでしょう
ATTACH;FMTTYPE=image/jpeg:https://www.music-live.jp/wp-content/uploads/202
 5/01/57__MjAyNS0wMi0wMV9NaWhvX_mYv_S5heaguemnhQ-D-__org-scaled.jpg
CATEGORIES:Jazz
LOCATION:にぎわい交流館阿久根駅\, 栄町1\, 阿久根市\, 鹿
 児島県\, 899-1616\, 日本
GEO:32.022631;130.195954
X-APPLE-STRUCTURED-LOCATION;VALUE=URI;X-ADDRESS=栄町1\, 阿久根市\, 
 鹿児島県\, 899-1616\, 日本;X-APPLE-RADIUS=100;X-TITLE=にぎわい
 交流館阿久根駅:geo:32.022631,130.195954
END:VEVENT
BEGIN:VTIMEZONE
TZID:Asia/Tokyo
X-LIC-LOCATION:Asia/Tokyo
BEGIN:STANDARD
DTSTART:20240202T183000
TZOFFSETFROM:+0900
TZOFFSETTO:+0900
TZNAME:JST
END:STANDARD
END:VTIMEZONE
END:VCALENDAR