BEGIN:VCALENDAR
VERSION:2.0
PRODID:-//wp-events-plugin.com//7.2.3.1//EN
TZID:Asia/Tokyo
X-WR-TIMEZONE:Asia/Tokyo
BEGIN:VEVENT
UID:1487@music-live.jp
DTSTART;TZID=Asia/Tokyo:20250112T143000
DTEND;TZID=Asia/Tokyo:20250112T163000
DTSTAMP:20250104T112243Z
URL:https://www.music-live.jp/events/eventid-103381/
SUMMARY:阿久根駅 HALL JAZZ LIVE 松本圭使(Pf)×楠井五月(Ba)
DESCRIPTION:5月に10周年を迎えたばかりの阿久根駅ライブは
 、2025年もますます盛り上がります！奇数月に開催され
 る駅ライブ、ぜひお立ち寄りください。
ATTACH;FMTTYPE=image/jpeg:https://www.music-live.jp/wp-content/uploads/202
 5/01/EventImage_3490_image.jpg
CATEGORIES:Jazz
LOCATION:にぎわい交流館阿久根駅\, 栄町1\, 阿久根市\, 鹿
 児島県\, 899-1616\, 日本
GEO:32.022631;130.195954
X-APPLE-STRUCTURED-LOCATION;VALUE=URI;X-ADDRESS=栄町1\, 阿久根市\, 
 鹿児島県\, 899-1616\, 日本;X-APPLE-RADIUS=100;X-TITLE=にぎわい
 交流館阿久根駅:geo:32.022631,130.195954
END:VEVENT
BEGIN:VTIMEZONE
TZID:Asia/Tokyo
X-LIC-LOCATION:Asia/Tokyo
BEGIN:STANDARD
DTSTART:20240113T143000
TZOFFSETFROM:+0900
TZOFFSETTO:+0900
TZNAME:JST
END:STANDARD
END:VTIMEZONE
END:VCALENDAR