BEGIN:VCALENDAR
VERSION:2.0
PRODID:-//wp-events-plugin.com//7.2.3.1//EN
TZID:Asia/Tokyo
X-WR-TIMEZONE:Asia/Tokyo
BEGIN:VEVENT
UID:1498@music-live.jp
DTSTART;TZID=Asia/Tokyo:20250213T200000
DTEND;TZID=Asia/Tokyo:20250213T220000
DTSTAMP:20250106T124722Z
URL:https://www.music-live.jp/events/eventid-103438/
SUMMARY:Anna Toribuchi Live Tour Kagoshima
DESCRIPTION:Anna Toribuchi Live Tour Kagoshima featuring Anna Toribuchi\, N
 aoto Oshiro (gt)
ATTACH;FMTTYPE=image/jpeg:https://www.music-live.jp/wp-content/uploads/202
 5/01/822c960e-8656-4e89-bbf7-d320868cca07.jpg
CATEGORIES:Jazz
LOCATION:music&cafe 明日の地図\, 千日町9-17 江口ビル2階\, 鹿
 児島市\, 鹿児島県\, 892-0843\, 日本
GEO:31.588609;130.556373
X-APPLE-STRUCTURED-LOCATION;VALUE=URI;X-ADDRESS=千日町9-17 江口ビル2
 階\, 鹿児島市\, 鹿児島県\, 892-0843\, 日本;X-APPLE-RADIUS=100;X
 -TITLE=music&cafe 明日の地図:geo:31.588609,130.556373
END:VEVENT
BEGIN:VTIMEZONE
TZID:Asia/Tokyo
X-LIC-LOCATION:Asia/Tokyo
BEGIN:STANDARD
DTSTART:20240214T200000
TZOFFSETFROM:+0900
TZOFFSETTO:+0900
TZNAME:JST
END:STANDARD
END:VTIMEZONE
END:VCALENDAR