BEGIN:VCALENDAR
VERSION:2.0
PRODID:-//wp-events-plugin.com//7.2.3.1//EN
TZID:Asia/Tokyo
X-WR-TIMEZONE:Asia/Tokyo
BEGIN:VEVENT
UID:1509@music-live.jp
DTSTART;TZID=Asia/Tokyo:20250117T183000
DTEND;TZID=Asia/Tokyo:20250117T210000
DTSTAMP:20250110T135327Z
URL:https://www.music-live.jp/events/eventid-103460/
SUMMARY:Saxophone Concert～多彩なるサクソフォン八重奏の世
 界～
DESCRIPTION:曲目\nA.リード アルメニアンダンス\nG.ビゼー 
 カルメン幻想曲\n真島 俊夫 ラ・セーヌ\nB.ウィーラン 
 リバーダンス\nA.ピアソラ ブエノスアイレスの春 他
ATTACH;FMTTYPE=image/jpeg:https://www.music-live.jp/wp-content/uploads/202
 5/01/468715603_17964348554818556_7838829438282741976_n.jpg
CATEGORIES:Classic
LOCATION:イイテラス10F Hall\, 荒田1丁目16-7\, 鹿児島市\, 鹿
 児島県\, 890-0054\, 日本
GEO:31.576962;130.553439
X-APPLE-STRUCTURED-LOCATION;VALUE=URI;X-ADDRESS=荒田1丁目16-7\, 鹿児
 島市\, 鹿児島県\, 890-0054\, 日本;X-APPLE-RADIUS=100;X-TITLE=イ
 イテラス10F Hall:geo:31.576962,130.553439
END:VEVENT
BEGIN:VTIMEZONE
TZID:Asia/Tokyo
X-LIC-LOCATION:Asia/Tokyo
BEGIN:STANDARD
DTSTART:20240118T183000
TZOFFSETFROM:+0900
TZOFFSETTO:+0900
TZNAME:JST
END:STANDARD
END:VTIMEZONE
END:VCALENDAR