BEGIN:VCALENDAR
VERSION:2.0
PRODID:-//wp-events-plugin.com//7.2.3.1//EN
TZID:Asia/Tokyo
X-WR-TIMEZONE:Asia/Tokyo
BEGIN:VEVENT
UID:1533@music-live.jp
DTSTART;TZID=Asia/Tokyo:20250208T140000
DTEND;TZID=Asia/Tokyo:20250208T150000
DTSTAMP:20250120T123652Z
URL:https://www.music-live.jp/events/eventid-103531/
SUMMARY:第159回 霧や櫻やが贈るティータイムコンサート
DESCRIPTION:霧島市を拠点に活躍している入来慶子さんがレ
 ギュラー出演し毎回様々なゲストと一緒に協奏するテ
 ィータイムコンサート。毎月1回、観覧無料にて開催し
 ています。プロのクラシック演奏を聞きながら楽しい
 午後のひと時を過ごしませんか?\n\n
ATTACH;FMTTYPE=image/jpeg:https://www.music-live.jp/wp-content/uploads/202
 5/01/sakuraya-20250208.jpg
CATEGORIES:Classic
LOCATION:霧や櫻や\, 国分野口西456-1.\, 霧島市\, 鹿児島県\, 
 899-4343\, 日本
GEO:31.74196;130.747037
X-APPLE-STRUCTURED-LOCATION;VALUE=URI;X-ADDRESS=国分野口西456-1.\, 霧
 島市\, 鹿児島県\, 899-4343\, 日本;X-APPLE-RADIUS=100;X-TITLE=霧
 や櫻や:geo:31.74196,130.747037
END:VEVENT
BEGIN:VTIMEZONE
TZID:Asia/Tokyo
X-LIC-LOCATION:Asia/Tokyo
BEGIN:STANDARD
DTSTART:20240209T140000
TZOFFSETFROM:+0900
TZOFFSETTO:+0900
TZNAME:JST
END:STANDARD
END:VTIMEZONE
END:VCALENDAR