BEGIN:VCALENDAR
VERSION:2.0
PRODID:-//wp-events-plugin.com//7.2.3.1//EN
TZID:Asia/Tokyo
X-WR-TIMEZONE:Asia/Tokyo
BEGIN:VEVENT
UID:1600@music-live.jp
DTSTART;TZID=Asia/Tokyo:20250223T193000
DTEND;TZID=Asia/Tokyo:20250223T213000
DTSTAMP:20250221T140333Z
URL:https://www.music-live.jp/events/eventid-103680/
SUMMARY:GUMBO@MOJO
DESCRIPTION:GUMBO@MOJO
ATTACH;FMTTYPE=image/jpeg:https://www.music-live.jp/wp-content/uploads/202
 5/02/mojo_20250223.jpg
CATEGORIES:Rock・Pops
LOCATION:Bar MOJO\, 東千石町8-29\, 鹿児島市\, 鹿児島県\, 892-08
 42\, 日本
GEO:31.591388;130.553204
X-APPLE-STRUCTURED-LOCATION;VALUE=URI;X-ADDRESS=東千石町8-29\, 鹿児
 島市\, 鹿児島県\, 892-0842\, 日本;X-APPLE-RADIUS=100;X-TITLE=Bar M
 OJO:geo:31.591388,130.553204
END:VEVENT
BEGIN:VTIMEZONE
TZID:Asia/Tokyo
X-LIC-LOCATION:Asia/Tokyo
BEGIN:STANDARD
DTSTART:20240224T193000
TZOFFSETFROM:+0900
TZOFFSETTO:+0900
TZNAME:JST
END:STANDARD
END:VTIMEZONE
END:VCALENDAR