BEGIN:VCALENDAR
VERSION:2.0
PRODID:-//wp-events-plugin.com//7.2.3.1//EN
TZID:Asia/Tokyo
X-WR-TIMEZONE:Asia/Tokyo
BEGIN:VEVENT
UID:1606@music-live.jp
DTSTART;TZID=Asia/Tokyo:20250301T180000
DTEND;TZID=Asia/Tokyo:20250301T213000
DTSTAMP:20250224T133338Z
URL:https://www.music-live.jp/events/eventid-103697/
SUMMARY:Vol.64 ジャムセッション@順刻堂
DESCRIPTION:ピアノ、ドラム、ベースギターアンプは、当店
 で準備します。\n4ビートを中心に楽器ごとに交代しま
 す。\n楽譜は各自お持ちください。\nボーカルの方は、3
 枚ご準備ください。
ATTACH;FMTTYPE=image/jpeg:https://www.music-live.jp/wp-content/uploads/202
 5/02/jyunkoku_20250301.jpg
CATEGORIES:Jazz
LOCATION:ジャズ喫茶 順刻堂\, 春山町1913-6\, 鹿児島市\, 鹿
 児島県\, 899-2704\, 日本
GEO:31.581629;130.455234
X-APPLE-STRUCTURED-LOCATION;VALUE=URI;X-ADDRESS=春山町1913-6\, 鹿児島
 市\, 鹿児島県\, 899-2704\, 日本;X-APPLE-RADIUS=100;X-TITLE=ジャ
 ズ喫茶 順刻堂:geo:31.581629,130.455234
END:VEVENT
BEGIN:VTIMEZONE
TZID:Asia/Tokyo
X-LIC-LOCATION:Asia/Tokyo
BEGIN:STANDARD
DTSTART:20240301T180000
TZOFFSETFROM:+0900
TZOFFSETTO:+0900
TZNAME:JST
END:STANDARD
END:VTIMEZONE
END:VCALENDAR