BEGIN:VCALENDAR
VERSION:2.0
PRODID:-//wp-events-plugin.com//7.2.3.1//EN
TZID:Asia/Tokyo
X-WR-TIMEZONE:Asia/Tokyo
BEGIN:VEVENT
UID:1613@music-live.jp
DTSTART;TZID=Asia/Tokyo:20250307T190000
DTEND;TZID=Asia/Tokyo:20250307T213000
DTSTAMP:20250301T003336Z
URL:https://www.music-live.jp/events/eventid-103708/
SUMMARY:第1金曜日は、ジャム･セッション♪
DESCRIPTION:毎月第一金曜日は、ジャム・セッションで楽し
 みましょう\nあなたもジャム・セッションに参加してみ
 ませんか？\nどんな楽器でも、レベルでも、観るだけで
 も、聴くだけでも、飲むだけでも、お気軽参加大歓迎\n
 \n■課題曲\nUp Jumped Spring (Freddide Hubbard) [Key=B♭]\nTake the 
 ‘A’ Train (Duke Ellington) [Key=C] \n\n■タイムスケジュール\
 n18:00 開場（ブリーフィング～演者スタンバイ）\n19:00 
 第一部開演\n20:00 インターバル\n20:20 第二部開演\n21:30 
 終了\n22:00 アフターセッション\n\n■事前相談（※要予
 約）\n自分のキー設定のお手伝い、楽譜のチェック等、
 事前に相談受け付けます。\n【相談対応時間】平日17時
 〜19時 \n【料金】1\,500円（1ドリンク付税込）☆喉に優
 しいオリジナルハーブティーorレモネード\n
ATTACH;FMTTYPE=image/jpeg:https://www.music-live.jp/wp-content/uploads/202
 5/03/250307_jam-session_ad_ogp.webp
CATEGORIES:Jazz
LOCATION:Jazz Spot Lileth（ジャズスポット・リレット）\, 千
 日町9-4 天文館Kビル 4F\, 鹿児島市\, 鹿児島県\, 892-0843\, 
 日本
GEO:31.588582;130.555485
X-APPLE-STRUCTURED-LOCATION;VALUE=URI;X-ADDRESS=千日町9-4 天文館Kビ
 ル 4F\, 鹿児島市\, 鹿児島県\, 892-0843\, 日本;X-APPLE-RADIUS=10
 0;X-TITLE=Jazz Spot Lileth（ジャズスポット・リレット）:geo:3
 1.588582,130.555485
END:VEVENT
BEGIN:VTIMEZONE
TZID:Asia/Tokyo
X-LIC-LOCATION:Asia/Tokyo
BEGIN:STANDARD
DTSTART:20240307T190000
TZOFFSETFROM:+0900
TZOFFSETTO:+0900
TZNAME:JST
END:STANDARD
END:VTIMEZONE
END:VCALENDAR