BEGIN:VCALENDAR
VERSION:2.0
PRODID:-//wp-events-plugin.com//7.2.3.1//EN
TZID:Asia/Tokyo
X-WR-TIMEZONE:Asia/Tokyo
BEGIN:VEVENT
UID:1700@music-live.jp
DTSTART;TZID=Asia/Tokyo:20250426T170000
DTEND;TZID=Asia/Tokyo:20250426T210000
DTSTAMP:20250406T145121Z
URL:https://www.music-live.jp/events/eventid-103890/
SUMMARY:神社's JAZZ
DESCRIPTION:神社×音楽\n心地よい春の夜を\n\n■ タイムテー
 ブル\n 17:00 飲食ブースOPEN\n 18:00 クラシックステージ（2
 5分）\n 18:50 ジャズステージ①（30分）\n 20:00 ジャズス
 テージ②（45分）\n 21:00 終演\n\n境内にはテーブル席も
 完備\n飲食とともに音楽をお楽しみください\n\n■出店\n
 【Paddy fieldon】アイルランド屋台バブ\n　アイリッシュ
 トースティ(ホットサンド)\n　アイリッシュラテ\n　ギ
 ネスビール etc.\n【PARATI】パラティ\n　エンパナーダ\n　
 生地で包んだ具たっぷりの中南米 スペインのソウルフ
 ード etc.\n【山下食堂】中央駅近くに営む隠れ家的洋風
 居酒屋\n　創作カレー\n　惣菜 etc.\n【トリキング】甲突
 町に営む鶏料理持ち帰り専門店\n 　鶏の唐揚げ\n 　地
 鶏の炭火焼き etc.\n【JOURNEY SIP COFFEE】「コーヒーが苦手
 ならジャーニーシップ」九州初の三輪自転車コーヒー
 屋台\n 　ホットコーヒー\n 　コーヒーのお供 etc.\n【SAKI
 FARM Kitchen 】湧水町 さきファーム\n 　クレープ各種\n 　
 自家製湧水米を使用した米粉クレープ etc.
ATTACH;FMTTYPE=image/jpeg:https://www.music-live.jp/wp-content/uploads/202
 5/04/jinjyas.jpg
CATEGORIES:Jazz
LOCATION:薩摩祇園宮 八坂神社\, 清水町26-1\, 鹿児島市\, 鹿
 児島県\, 892-0802\, 日本
GEO:31.605404;130.568294
X-APPLE-STRUCTURED-LOCATION;VALUE=URI;X-ADDRESS=清水町26-1\, 鹿児島
 市\, 鹿児島県\, 892-0802\, 日本;X-APPLE-RADIUS=100;X-TITLE=薩摩
 祇園宮 八坂神社:geo:31.605404,130.568294
END:VEVENT
BEGIN:VTIMEZONE
TZID:Asia/Tokyo
X-LIC-LOCATION:Asia/Tokyo
BEGIN:STANDARD
DTSTART:20240426T170000
TZOFFSETFROM:+0900
TZOFFSETTO:+0900
TZNAME:JST
END:STANDARD
END:VTIMEZONE
END:VCALENDAR