BEGIN:VCALENDAR
VERSION:2.0
PRODID:-//wp-events-plugin.com//7.2.3.1//EN
TZID:Asia/Tokyo
X-WR-TIMEZONE:Asia/Tokyo
BEGIN:VEVENT
UID:1705@music-live.jp
DTSTART;TZID=Asia/Tokyo:20250518T140000
DTEND;TZID=Asia/Tokyo:20250518T160000
DTSTAMP:20250409T125014Z
URL:https://www.music-live.jp/events/eventid-103901/
SUMMARY:BIG BAND SEAGULLS PICNIC LIVE 2025@かんまちあ
DESCRIPTION:ビッグバンド シーガルズ ピク
 ニックライブ@かんまちあ\n\n芝生の上でスウィンク
 ゙ジャズや\n映画音楽を楽しむ日曜日の昼下がり
  \nピクニック気分でお気軽にお越しください
ATTACH;FMTTYPE=image/jpeg:https://www.music-live.jp/wp-content/uploads/202
 5/04/seaguls.jpg
CATEGORIES:Jazz
LOCATION:かんまちあ\, 浜町2-20\, 鹿児島市\, 鹿児島県\, 892-0
 812\, 日本
GEO:31.600072;130.562687
X-APPLE-STRUCTURED-LOCATION;VALUE=URI;X-ADDRESS=浜町2-20\, 鹿児島市\,
  鹿児島県\, 892-0812\, 日本;X-APPLE-RADIUS=100;X-TITLE=かんまち
 あ:geo:31.600072,130.562687
END:VEVENT
BEGIN:VTIMEZONE
TZID:Asia/Tokyo
X-LIC-LOCATION:Asia/Tokyo
BEGIN:STANDARD
DTSTART:20240518T140000
TZOFFSETFROM:+0900
TZOFFSETTO:+0900
TZNAME:JST
END:STANDARD
END:VTIMEZONE
END:VCALENDAR