BEGIN:VCALENDAR
VERSION:2.0
PRODID:-//wp-events-plugin.com//7.2.3.1//EN
TZID:Asia/Tokyo
X-WR-TIMEZONE:Asia/Tokyo
BEGIN:VEVENT
UID:1719@music-live.jp
DTSTART;TZID=Asia/Tokyo:20250719T140000
DTEND;TZID=Asia/Tokyo:20250719T160000
DTSTAMP:20250419T134340Z
URL:https://www.music-live.jp/events/eventid-103931/
SUMMARY:SUPER BRASS STARS 中川英二郎(Tb)×エリック・ミヤシロ(
 Tp)×本田雅人(Sax) LIVE IN 霧島国際音楽祭
DESCRIPTION:BRASSの最強スーパースターたちが音楽祭初登場
 ！\nJAZZあり!吹奏楽あり!!\n公演最後には吹奏楽の定番曲
 「宝島」を客席の皆様と共演します。\n今年の夏は、楽
 器を持って宝山ホールに集合!\n\n■演奏予定\nJoe Zawinul
 ： Birdland\nEijiro Nakagawa：12Colors\nHirotaka Izumi：TAKARAJIMA（
 宝島）ほか
ATTACH;FMTTYPE=image/jpeg:https://www.music-live.jp/wp-content/uploads/202
 5/04/houzan_20250719.jpg
CATEGORIES:Instrumental,Jazz
LOCATION:宝山ホール（鹿児島県文化センター）\, 山下町5-3
 \, 鹿児島市\, 鹿児島県\, 892-0816\, 日本
GEO:31.595078;130.554878
X-APPLE-STRUCTURED-LOCATION;VALUE=URI;X-ADDRESS=山下町5-3\, 鹿児島市
 \, 鹿児島県\, 892-0816\, 日本;X-APPLE-RADIUS=100;X-TITLE=宝山ホ
 ール（鹿児島県文化センター）:geo:31.595078,130.554878
END:VEVENT
BEGIN:VTIMEZONE
TZID:Asia/Tokyo
X-LIC-LOCATION:Asia/Tokyo
BEGIN:STANDARD
DTSTART:20240719T140000
TZOFFSETFROM:+0900
TZOFFSETTO:+0900
TZNAME:JST
END:STANDARD
END:VTIMEZONE
END:VCALENDAR