BEGIN:VCALENDAR
VERSION:2.0
PRODID:-//wp-events-plugin.com//7.2.3.1//EN
TZID:Asia/Tokyo
X-WR-TIMEZONE:Asia/Tokyo
BEGIN:VEVENT
UID:1727@music-live.jp
DTSTART;TZID=Asia/Tokyo:20250525T193000
DTEND;TZID=Asia/Tokyo:20250525T213000
DTSTAMP:20250427T000353Z
URL:https://www.music-live.jp/events/eventid-103950/
SUMMARY:ZEK3 サード・アルバム発売記念 南九州ツアー@イパ
 ネマ
DESCRIPTION:ZEK3 サード・アルバム発売記念 南九州ツアー@
 イパネマ
ATTACH;FMTTYPE=image/jpeg:https://www.music-live.jp/wp-content/uploads/202
 5/04/2025.3kyushu_big.jpg
CATEGORIES:Jazz
LOCATION:BAR IPANEMA\, 東千石町5-17 イパネマ(BAR IPANEMA)\, 鹿児
 島市\, 鹿児島県\, 892-0842\, 日本
GEO:31.592466;130.553792
X-APPLE-STRUCTURED-LOCATION;VALUE=URI;X-ADDRESS=東千石町5-17 イパネ
 マ(BAR IPANEMA)\, 鹿児島市\, 鹿児島県\, 892-0842\, 日本;X-APPLE
 -RADIUS=100;X-TITLE=BAR IPANEMA:geo:31.592466,130.553792
END:VEVENT
BEGIN:VTIMEZONE
TZID:Asia/Tokyo
X-LIC-LOCATION:Asia/Tokyo
BEGIN:STANDARD
DTSTART:20240525T193000
TZOFFSETFROM:+0900
TZOFFSETTO:+0900
TZNAME:JST
END:STANDARD
END:VTIMEZONE
END:VCALENDAR