BEGIN:VCALENDAR
VERSION:2.0
PRODID:-//wp-events-plugin.com//7.2.3.1//EN
TZID:Asia/Tokyo
X-WR-TIMEZONE:Asia/Tokyo
BEGIN:VEVENT
UID:1776@music-live.jp
DTSTART;TZID=Asia/Tokyo:20250517T153000
DTEND;TZID=Asia/Tokyo:20250517T200000
DTSTAMP:20250516T221040Z
URL:https://www.music-live.jp/events/eventid-104050/
SUMMARY:おてら JAZZ NIGHT&マルシェ
DESCRIPTION:■タイムスケジュール\n15:30 境内にて演奏・マ
 ルシェ開始\n　光明太鼓（太鼓演奏）\n　MARCE（マルシ
 ェ）\n16:30〜\n　雅楽（仏教と関係の深い伝統音楽）\n18:
 00〜\n　本堂にて JAZZ LIVE 開演\n　出演：JAZNIC PARK\n\n■マ
 ルシェ出店者（MARCE & MUSIC）\n　原口農園（ピーマン・
 野菜）\n　黒田パン\n　垂水パースニップ（加工品・ミ
 ニトマト など）\n　WHITE STORK COFFEE\n　キッチンカー勝八
 （PIZZA）\n　口福楼（中華）\n　岩元屋（味付け豆腐）\n
 　ヒーローきんかん（特製タコロス）
ATTACH;FMTTYPE=image/jpeg:https://www.music-live.jp/wp-content/uploads/202
 5/05/otera_20250517.jpg
CATEGORIES:Jazz,その他
LOCATION:黄蓮山 大円寺\, 輝北町上百引3988\, 鹿屋市\, 鹿児
 島県\, 893-0201\, 日本
GEO:31.542155;130.866464
X-APPLE-STRUCTURED-LOCATION;VALUE=URI;X-ADDRESS=輝北町上百引3988\, 
 鹿屋市\, 鹿児島県\, 893-0201\, 日本;X-APPLE-RADIUS=100;X-TITLE=
 黄蓮山 大円寺:geo:31.542155,130.866464
END:VEVENT
BEGIN:VTIMEZONE
TZID:Asia/Tokyo
X-LIC-LOCATION:Asia/Tokyo
BEGIN:STANDARD
DTSTART:20240517T153000
TZOFFSETFROM:+0900
TZOFFSETTO:+0900
TZNAME:JST
END:STANDARD
END:VTIMEZONE
END:VCALENDAR