BEGIN:VCALENDAR
VERSION:2.0
PRODID:-//wp-events-plugin.com//7.2.3.1//EN
TZID:Asia/Tokyo
X-WR-TIMEZONE:Asia/Tokyo
BEGIN:VEVENT
UID:1860@music-live.jp
DTSTART;TZID=Asia/Tokyo:20250725T190000
DTEND;TZID=Asia/Tokyo:20250725T210000
DTSTAMP:20250701T132438Z
URL:https://www.music-live.jp/events/eventid-104230/
SUMMARY:KATSUMI(Vo/Gt/Pf) Live 2025「FAVORITES/water.3560」in 鹿児島
DESCRIPTION:今年の夏も鹿児島でKATSUMIに会えます！\nアット
 ホームな会場です。\nリラックスしてライブをお楽しみ
 ください。\n※公式サイトより引用
ATTACH;FMTTYPE=image/jpeg:https://www.music-live.jp/wp-content/uploads/202
 5/07/ashita_20250725-1.jpg
CATEGORIES:Rock・Pops
LOCATION:music&cafe 明日の地図\, 千日町9-17 江口ビル2階\, 鹿
 児島市\, 鹿児島県\, 892-0843\, 日本
GEO:31.588609;130.556373
X-APPLE-STRUCTURED-LOCATION;VALUE=URI;X-ADDRESS=千日町9-17 江口ビル2
 階\, 鹿児島市\, 鹿児島県\, 892-0843\, 日本;X-APPLE-RADIUS=100;X
 -TITLE=music&cafe 明日の地図:geo:31.588609,130.556373
END:VEVENT
BEGIN:VTIMEZONE
TZID:Asia/Tokyo
X-LIC-LOCATION:Asia/Tokyo
BEGIN:STANDARD
DTSTART:20240725T190000
TZOFFSETFROM:+0900
TZOFFSETTO:+0900
TZNAME:JST
END:STANDARD
END:VTIMEZONE
END:VCALENDAR