BEGIN:VCALENDAR
VERSION:2.0
PRODID:-//wp-events-plugin.com//7.2.3.1//EN
TZID:Asia/Tokyo
X-WR-TIMEZONE:Asia/Tokyo
BEGIN:VEVENT
UID:1862@music-live.jp
DTSTART;TZID=Asia/Tokyo:20250725T190000
DTEND;TZID=Asia/Tokyo:20250725T210000
DTSTAMP:20250701T135015Z
URL:https://www.music-live.jp/events/eventid-104235/
SUMMARY:そっとボサノヴァ♪ DUO LIVE Good Time Music
DESCRIPTION:そっとボサノヴァ♪\n（柴藤ひろ子 key/vo・岩下
 よしひろ g/vo）\nピアノ＆ギターの ふたりボサノヴァユ
 ニット\nボサノヴァとオリジナルソングをお届けします
 \n初のワンマンライブにご期待ください！
ATTACH;FMTTYPE=image/jpeg:https://www.music-live.jp/wp-content/uploads/202
 5/07/heaven_20250725.jpg
CATEGORIES:Bossa Nova,その他
LOCATION:Live Heaven\, 東千石町3-4-1 キャパルボビル 3F\, 鹿児
 島市\, 鹿児島県\, 892-0842\, 日本
GEO:31.590826;130.55185
X-APPLE-STRUCTURED-LOCATION;VALUE=URI;X-ADDRESS=東千石町3-4-1 キャパ
 ルボビル 3F\, 鹿児島市\, 鹿児島県\, 892-0842\, 日本;X-APPLE-
 RADIUS=100;X-TITLE=Live Heaven:geo:31.590826,130.55185
END:VEVENT
BEGIN:VTIMEZONE
TZID:Asia/Tokyo
X-LIC-LOCATION:Asia/Tokyo
BEGIN:STANDARD
DTSTART:20240725T190000
TZOFFSETFROM:+0900
TZOFFSETTO:+0900
TZNAME:JST
END:STANDARD
END:VTIMEZONE
END:VCALENDAR