BEGIN:VCALENDAR
VERSION:2.0
PRODID:-//wp-events-plugin.com//7.2.3.1//EN
TZID:Asia/Tokyo
X-WR-TIMEZONE:Asia/Tokyo
BEGIN:VEVENT
UID:1864@music-live.jp
DTSTART;TZID=Asia/Tokyo:20250720T190000
DTEND;TZID=Asia/Tokyo:20250720T210000
DTSTAMP:20250701T140134Z
URL:https://www.music-live.jp/events/eventid-104239/
SUMMARY:JUSIN MIN TRIO LIVE CHILDREN OF LUNA
DESCRIPTION:ミン・ジュシン トリオ LIVE @ 砂時計
ATTACH;FMTTYPE=image/jpeg:https://www.music-live.jp/wp-content/uploads/202
 5/07/sunadokei_20250720.jpg
CATEGORIES:Jazz
LOCATION:砂時計\, 中央町35-24 スプリングハイツ中洲1F\, 鹿
 児島市\, 鹿児島県\, 890-0053\, 日本
GEO:31.57912;130.542159
X-APPLE-STRUCTURED-LOCATION;VALUE=URI;X-ADDRESS=中央町35-24 スプリン
 グハイツ中洲1F\, 鹿児島市\, 鹿児島県\, 890-0053\, 日本;X-A
 PPLE-RADIUS=100;X-TITLE=砂時計:geo:31.57912,130.542159
END:VEVENT
BEGIN:VTIMEZONE
TZID:Asia/Tokyo
X-LIC-LOCATION:Asia/Tokyo
BEGIN:STANDARD
DTSTART:20240720T190000
TZOFFSETFROM:+0900
TZOFFSETTO:+0900
TZNAME:JST
END:STANDARD
END:VTIMEZONE
END:VCALENDAR