BEGIN:VCALENDAR
VERSION:2.0
PRODID:-//wp-events-plugin.com//7.2.3.1//EN
TZID:Asia/Tokyo
X-WR-TIMEZONE:Asia/Tokyo
BEGIN:VEVENT
UID:1909@music-live.jp
DTSTART;TZID=Asia/Tokyo:20250727T140000
DTEND;TZID=Asia/Tokyo:20250727T160000
DTSTAMP:20250726T222512Z
URL:https://www.music-live.jp/events/eventid-104330/
SUMMARY:JOYJOY Summer Concert
DESCRIPTION:サックス、ウクレレ、カホンで奏でる JOYJOY の
 サマコンサート\n夏らしい曲、懐かしい曲、オリジナル
 ソング、ハワイアンソングなどと共にお楽しみくださ
 い\nダンスチームの友情出演もあるかも
ATTACH;FMTTYPE=image/jpeg:https://www.music-live.jp/wp-content/uploads/202
 5/07/youf_20250727.webp
CATEGORIES:Rock・Pops
LOCATION:You+Fカフェ\, 蒲生町上久徳上久德2632\, 姶良市\, 鹿
 児島県\, 899-5302\, 日本
GEO:31.764063;130.581354
X-APPLE-STRUCTURED-LOCATION;VALUE=URI;X-ADDRESS=蒲生町上久徳上久德
 2632\, 姶良市\, 鹿児島県\, 899-5302\, 日本;X-APPLE-RADIUS=100;X-T
 ITLE=You+Fカフェ:geo:31.764063,130.581354
END:VEVENT
BEGIN:VTIMEZONE
TZID:Asia/Tokyo
X-LIC-LOCATION:Asia/Tokyo
BEGIN:STANDARD
DTSTART:20240727T140000
TZOFFSETFROM:+0900
TZOFFSETTO:+0900
TZNAME:JST
END:STANDARD
END:VTIMEZONE
END:VCALENDAR