BEGIN:VCALENDAR
VERSION:2.0
PRODID:-//wp-events-plugin.com//7.2.3.1//EN
TZID:Asia/Tokyo
X-WR-TIMEZONE:Asia/Tokyo
BEGIN:VEVENT
UID:1928@music-live.jp
DTSTART;TZID=Asia/Tokyo:20250809T190000
DTEND;TZID=Asia/Tokyo:20250809T233000
DTSTAMP:20250729T125925Z
URL:https://www.music-live.jp/events/eventid-104356/
SUMMARY:岩下よしひろ(Vo/Gt) Bossa Nova & エミリー(Vo) Pop’n Jaz
 z on SATURDAY NIGHT LIVE
DESCRIPTION:19:00~ 岩下よしひろ Bossa Nova\n20:00~ エミリー Pop
 ’n Jazz\n21:00~ 岩下よしひろ Bossa Nova\n22:00~ エミリー Pop
 ’n Jazz
ATTACH;FMTTYPE=image/jpeg:https://www.music-live.jp/wp-content/uploads/202
 5/07/250809_saturday-night-jazz-live_ad_ogp.webp
CATEGORIES:Bossa Nova,Jazz,Rock・Pops
LOCATION:Jazz Spot Lileth（ジャズスポット・リレット）\, 千
 日町9-4 天文館Kビル 4F\, 鹿児島市\, 鹿児島県\, 892-0843\, 
 日本
GEO:31.588582;130.555485
X-APPLE-STRUCTURED-LOCATION;VALUE=URI;X-ADDRESS=千日町9-4 天文館Kビ
 ル 4F\, 鹿児島市\, 鹿児島県\, 892-0843\, 日本;X-APPLE-RADIUS=10
 0;X-TITLE=Jazz Spot Lileth（ジャズスポット・リレット）:geo:3
 1.588582,130.555485
END:VEVENT
BEGIN:VTIMEZONE
TZID:Asia/Tokyo
X-LIC-LOCATION:Asia/Tokyo
BEGIN:STANDARD
DTSTART:20240809T190000
TZOFFSETFROM:+0900
TZOFFSETTO:+0900
TZNAME:JST
END:STANDARD
END:VTIMEZONE
END:VCALENDAR