BEGIN:VCALENDAR
VERSION:2.0
PRODID:-//wp-events-plugin.com//7.2.3.1//EN
TZID:Asia/Tokyo
X-WR-TIMEZONE:Asia/Tokyo
BEGIN:VEVENT
UID:1959@music-live.jp
DTSTART;TZID=Asia/Tokyo:20250926T190000
DTEND;TZID=Asia/Tokyo:20250926T210000
DTSTAMP:20250830T002704Z
URL:https://www.music-live.jp/events/eventid-104431/
SUMMARY:赤とうがらしLIVE vol.4 〜酒のつまみになる歌を〜
DESCRIPTION:
ATTACH;FMTTYPE=image/jpeg:https://www.music-live.jp/wp-content/uploads/202
 5/08/aka_20250926.jpg
CATEGORIES:Bossa Nova,Rock・Pops
LOCATION:KitchenBar 赤とうがらし\, 東千石町7-10 米沢ビル2F\, 
 鹿児島市\, 鹿児島県\, 892-0842\, 日本
GEO:31.591884;130.55367
X-APPLE-STRUCTURED-LOCATION;VALUE=URI;X-ADDRESS=東千石町7-10 米沢ビ
 ル2F\, 鹿児島市\, 鹿児島県\, 892-0842\, 日本;X-APPLE-RADIUS=100
 ;X-TITLE=KitchenBar 赤とうがらし:geo:31.591884,130.55367
END:VEVENT
BEGIN:VTIMEZONE
TZID:Asia/Tokyo
X-LIC-LOCATION:Asia/Tokyo
BEGIN:STANDARD
DTSTART:20240926T190000
TZOFFSETFROM:+0900
TZOFFSETTO:+0900
TZNAME:JST
END:STANDARD
END:VTIMEZONE
END:VCALENDAR