BEGIN:VCALENDAR
VERSION:2.0
PRODID:-//wp-events-plugin.com//7.2.3.1//EN
TZID:Asia/Tokyo
X-WR-TIMEZONE:Asia/Tokyo
BEGIN:VEVENT
UID:1960@music-live.jp
DTSTART;TZID=Asia/Tokyo:20250927T140000
DTEND;TZID=Asia/Tokyo:20250927T160000
DTSTAMP:20250830T003814Z
URL:https://www.music-live.jp/events/eventid-104433/
SUMMARY:古川航平 ピアノコンサート
DESCRIPTION:◆プログラム\nバッハ／フランス組曲 第6番よ
 り アルマンド、ジーグ\nモーツァルト／ピアノトリオ 
 第2番 変ロ長調\nショパン／エチュード op.10-5\nショパン
 ／スケルツォ 第3番 op.39\nショパン／バラード 第1番 op.2
 3\n他
ATTACH;FMTTYPE=image/jpeg:https://www.music-live.jp/wp-content/uploads/202
 5/08/sitiera_20250927.jpg
CATEGORIES:Classic
LOCATION:シティエラホール\, 住吉町7-18\, 鹿児島市\, 鹿児
 島県\, 892-0823\, 日本
GEO:31.588663;130.562132
X-APPLE-STRUCTURED-LOCATION;VALUE=URI;X-ADDRESS=住吉町7-18\, 鹿児島
 市\, 鹿児島県\, 892-0823\, 日本;X-APPLE-RADIUS=100;X-TITLE=シテ
 ィエラホール:geo:31.588663,130.562132
END:VEVENT
BEGIN:VTIMEZONE
TZID:Asia/Tokyo
X-LIC-LOCATION:Asia/Tokyo
BEGIN:STANDARD
DTSTART:20240927T140000
TZOFFSETFROM:+0900
TZOFFSETTO:+0900
TZNAME:JST
END:STANDARD
END:VTIMEZONE
END:VCALENDAR