BEGIN:VCALENDAR
VERSION:2.0
PRODID:-//wp-events-plugin.com//7.2.3.1//EN
TZID:Asia/Tokyo
X-WR-TIMEZONE:Asia/Tokyo
BEGIN:VEVENT
UID:1995@music-live.jp
DTSTART;TZID=Asia/Tokyo:20250823T130000
DTEND;TZID=Asia/Tokyo:20250823T140000
DTSTAMP:20250912T215513Z
URL:https://www.music-live.jp/events/eventid-104501/
SUMMARY:霧や櫻や マンスリーピアノ LIVE Sweets sing things vol.1
 5 ～和菓子に合う音楽の時間～
DESCRIPTION:霧や櫻や初の和菓子と音楽のコラボレーション
 ！\n霧島市内外で活躍するお二人が奏でる美しい音楽と
 ともに、和菓子をお楽しみください。\n\n今月のピック
 アップ菓子\n八太郎\n上品で香り豊かな小豆あんを黒糖
 風味の生地に包み蒸しあげました\n\n演奏予定曲（Play li
 st）\n・Close to you\n・赤とんぼ\n・セプテンバー　など
ATTACH;FMTTYPE=image/jpeg:https://www.music-live.jp/wp-content/uploads/202
 5/09/kiriya_20250823.jpg
CATEGORIES:Rock・Pops
LOCATION:霧や櫻や\, 国分野口西456-1.\, 霧島市\, 鹿児島県\, 
 899-4343\, 日本
GEO:31.74196;130.747037
X-APPLE-STRUCTURED-LOCATION;VALUE=URI;X-ADDRESS=国分野口西456-1.\, 霧
 島市\, 鹿児島県\, 899-4343\, 日本;X-APPLE-RADIUS=100;X-TITLE=霧
 や櫻や:geo:31.74196,130.747037
END:VEVENT
BEGIN:VTIMEZONE
TZID:Asia/Tokyo
X-LIC-LOCATION:Asia/Tokyo
BEGIN:STANDARD
DTSTART:20240823T130000
TZOFFSETFROM:+0900
TZOFFSETTO:+0900
TZNAME:JST
END:STANDARD
END:VTIMEZONE
END:VCALENDAR