BEGIN:VCALENDAR
VERSION:2.0
PRODID:-//wp-events-plugin.com//7.2.3.1//EN
TZID:Asia/Tokyo
X-WR-TIMEZONE:Asia/Tokyo
BEGIN:VEVENT
UID:2012@music-live.jp
DTSTART;TZID=Asia/Tokyo:20251004T103000
DTEND;TZID=Asia/Tokyo:20251004T123000
DTSTAMP:20250920T030007Z
URL:https://www.music-live.jp/events/eventid-104538/
SUMMARY:癒しのこもれびコンサート
DESCRIPTION:グリーフサポート和〈なごみ〉の会 2025\n癒し
 のこもれびコンサート\n\n◆第一部/グリーフ講演\n　“
 たいせつな方を亡くしたときの心のありかたについて
 ”\n　〈講師〉グリーフサポートこもれび・であいのそ
 うぎドットコム 代表 森田理恵子さん\n\n◆第二部/癒し
 のこもれびコンサート\n　〈うた〉sakura\n  〈ピアノ〉 
 塩屋祐典 (Hiro Shioya)
ATTACH;FMTTYPE=image/jpeg:https://www.music-live.jp/wp-content/uploads/202
 5/09/yoshida_20251004.jpg
CATEGORIES:Jazz,Rock・Pops,その他
LOCATION:吉田葬祭\, 大竜町10-2\, 鹿児島市\, 鹿児島県\, 892-0
 805\, 日本
GEO:31.606468;130.561231
X-APPLE-STRUCTURED-LOCATION;VALUE=URI;X-ADDRESS=大竜町10-2\, 鹿児島
 市\, 鹿児島県\, 892-0805\, 日本;X-APPLE-RADIUS=100;X-TITLE=吉田
 葬祭:geo:31.606468,130.561231
END:VEVENT
BEGIN:VTIMEZONE
TZID:Asia/Tokyo
X-LIC-LOCATION:Asia/Tokyo
BEGIN:STANDARD
DTSTART:20241004T103000
TZOFFSETFROM:+0900
TZOFFSETTO:+0900
TZNAME:JST
END:STANDARD
END:VTIMEZONE
END:VCALENDAR