BEGIN:VCALENDAR
VERSION:2.0
PRODID:-//wp-events-plugin.com//7.2.3.1//EN
TZID:Asia/Tokyo
X-WR-TIMEZONE:Asia/Tokyo
BEGIN:VEVENT
UID:2016@music-live.jp
DTSTART;TZID=Asia/Tokyo:20251004T200000
DTEND;TZID=Asia/Tokyo:20251004T230000
DTSTAMP:20250930T122501Z
URL:https://www.music-live.jp/events/eventid-104548/
SUMMARY:JAM SESSION@明日の地図
DESCRIPTION:
ATTACH;FMTTYPE=image/jpeg:https://www.music-live.jp/wp-content/uploads/202
 5/09/ashita_20251004.jpg
CATEGORIES:Jazz
LOCATION:music&cafe 明日の地図\, 千日町9-17 江口ビル2階\, 鹿
 児島市\, 鹿児島県\, 892-0843\, 日本
GEO:31.588609;130.556373
X-APPLE-STRUCTURED-LOCATION;VALUE=URI;X-ADDRESS=千日町9-17 江口ビル2
 階\, 鹿児島市\, 鹿児島県\, 892-0843\, 日本;X-APPLE-RADIUS=100;X
 -TITLE=music&cafe 明日の地図:geo:31.588609,130.556373
END:VEVENT
BEGIN:VTIMEZONE
TZID:Asia/Tokyo
X-LIC-LOCATION:Asia/Tokyo
BEGIN:STANDARD
DTSTART:20241004T200000
TZOFFSETFROM:+0900
TZOFFSETTO:+0900
TZNAME:JST
END:STANDARD
END:VTIMEZONE
END:VCALENDAR