BEGIN:VCALENDAR
VERSION:2.0
PRODID:-//wp-events-plugin.com//7.2.3.1//EN
TZID:Asia/Tokyo
X-WR-TIMEZONE:Asia/Tokyo
BEGIN:VEVENT
UID:2026@music-live.jp
DTSTART;TZID=Asia/Tokyo:20251010T190000
DTEND;TZID=Asia/Tokyo:20251010T233000
DTSTAMP:20251004T234036Z
URL:https://www.music-live.jp/events/eventid-104567/
SUMMARY:西田千穂(Vo)×奥村和彦(Pf) on Friday Night LIVE
DESCRIPTION:熱い南国グルーヴと情熱的なフレーズは正に南
 九州のジャズ！！\n繊細かつ情熱的なボーカルとピアノ
 の最強デュオが夏を更に熱くします\n西田千穂×奥村和
 彦 JAZZ DUO LIVE
ATTACH;FMTTYPE=image/jpeg:https://www.music-live.jp/wp-content/uploads/202
 5/10/lileth-20251005.jpg
CATEGORIES:Jazz
LOCATION:Jazz Spot Lileth（ジャズスポット・リレット）\, 千
 日町9-4 天文館Kビル 4F\, 鹿児島市\, 鹿児島県\, 892-0843\, 
 日本
GEO:31.588582;130.555485
X-APPLE-STRUCTURED-LOCATION;VALUE=URI;X-ADDRESS=千日町9-4 天文館Kビ
 ル 4F\, 鹿児島市\, 鹿児島県\, 892-0843\, 日本;X-APPLE-RADIUS=10
 0;X-TITLE=Jazz Spot Lileth（ジャズスポット・リレット）:geo:3
 1.588582,130.555485
END:VEVENT
BEGIN:VTIMEZONE
TZID:Asia/Tokyo
X-LIC-LOCATION:Asia/Tokyo
BEGIN:STANDARD
DTSTART:20241010T190000
TZOFFSETFROM:+0900
TZOFFSETTO:+0900
TZNAME:JST
END:STANDARD
END:VTIMEZONE
END:VCALENDAR