BEGIN:VCALENDAR
VERSION:2.0
PRODID:-//wp-events-plugin.com//7.2.3.1//EN
TZID:Asia/Tokyo
X-WR-TIMEZONE:Asia/Tokyo
BEGIN:VEVENT
UID:2031@music-live.jp
DTSTART;TZID=Asia/Tokyo:20251017T190000
DTEND;TZID=Asia/Tokyo:20251017T233000
DTSTAMP:20251005T005534Z
URL:https://www.music-live.jp/events/eventid-104578/
SUMMARY:ジャズスポット・リレット 33周年記念パーティー
DESCRIPTION:ジャズスポット・リレットは、たくさんの皆様
 に支えられて33周年を迎えることができました。\n日頃
 の感謝を込めてリレット&エミリーのフィリピン手料理
 を振る舞うビュッフェスタイルで皆さんと乾杯させて
 ください。\n31周年記念 LIVE & JAM SESSION パーティー (１時
 間毎にステージを行います。) \nフィリピン料理ビュッ
 フェ\nフィリピン出身で当店の看板歌手リレットとフレ
 ンズによるフィリピン料理をビュッフェスタイルでご
 提供します。\nアドボ【Adobo】豚肉と野菜を甘酸っぱく
 煮込んだ料理です。\nアロスカルド【Arrozcaldo】鶏肉と
 生姜たっぷりのお粥です。\nルンピア【Lumpia】合挽肉と
 野菜が詰まった春巻です。\nパンシット【Pancit Canton】
 ビーフンを使ったフィリピン風焼きそばです。
ATTACH;FMTTYPE=image/jpeg:https://www.music-live.jp/wp-content/uploads/202
 5/10/lileth-20251017.jpg
CATEGORIES:Jazz
LOCATION:Jazz Spot Lileth（ジャズスポット・リレット）\, 千
 日町9-4 天文館Kビル 4F\, 鹿児島市\, 鹿児島県\, 892-0843\, 
 日本
GEO:31.588582;130.555485
X-APPLE-STRUCTURED-LOCATION;VALUE=URI;X-ADDRESS=千日町9-4 天文館Kビ
 ル 4F\, 鹿児島市\, 鹿児島県\, 892-0843\, 日本;X-APPLE-RADIUS=10
 0;X-TITLE=Jazz Spot Lileth（ジャズスポット・リレット）:geo:3
 1.588582,130.555485
END:VEVENT
BEGIN:VTIMEZONE
TZID:Asia/Tokyo
X-LIC-LOCATION:Asia/Tokyo
BEGIN:STANDARD
DTSTART:20241017T190000
TZOFFSETFROM:+0900
TZOFFSETTO:+0900
TZNAME:JST
END:STANDARD
END:VTIMEZONE
END:VCALENDAR