BEGIN:VCALENDAR
VERSION:2.0
PRODID:-//wp-events-plugin.com//7.2.3.1//EN
TZID:Asia/Tokyo
X-WR-TIMEZONE:Asia/Tokyo
BEGIN:VEVENT
UID:2046@music-live.jp
DTSTART;TZID=Asia/Tokyo:20251004T140000
DTEND;TZID=Asia/Tokyo:20251004T150000
DTSTAMP:20251003T222818Z
URL:https://www.music-live.jp/events/eventid-104608/
SUMMARY:第167回 霧や櫻やが贈るティータイムコンサート
DESCRIPTION:霧島市を拠点に活躍している入来慶子さんがレ
 ギュラー出演し毎回様々なゲストと一緒に協奏するテ
 ィータイムコンサート。\n毎月1回、観覧無料にて開催
 しています。\nプロのクラシック演奏を聞きながら楽し
 い午後のひと時を過ごしませんか?
ATTACH;FMTTYPE=image/jpeg:https://www.music-live.jp/wp-content/uploads/202
 5/10/20251004-01-min-scaled-1.jpg
CATEGORIES:Classic
LOCATION:霧や櫻や\, 国分野口西456-1.\, 霧島市\, 鹿児島県\, 
 899-4343\, 日本
GEO:31.74196;130.747037
X-APPLE-STRUCTURED-LOCATION;VALUE=URI;X-ADDRESS=国分野口西456-1.\, 霧
 島市\, 鹿児島県\, 899-4343\, 日本;X-APPLE-RADIUS=100;X-TITLE=霧
 や櫻や:geo:31.74196,130.747037
END:VEVENT
BEGIN:VTIMEZONE
TZID:Asia/Tokyo
X-LIC-LOCATION:Asia/Tokyo
BEGIN:STANDARD
DTSTART:20241004T140000
TZOFFSETFROM:+0900
TZOFFSETTO:+0900
TZNAME:JST
END:STANDARD
END:VTIMEZONE
END:VCALENDAR