BEGIN:VCALENDAR
VERSION:2.0
PRODID:-//wp-events-plugin.com//7.2.3.1//EN
TZID:Asia/Tokyo
X-WR-TIMEZONE:Asia/Tokyo
BEGIN:VEVENT
UID:2048@music-live.jp
DTSTART;TZID=Asia/Tokyo:20251012T150000
DTEND;TZID=Asia/Tokyo:20251012T160000
DTSTAMP:20251005T020455Z
URL:https://www.music-live.jp/events/eventid-104614/
SUMMARY:霧や桜や 10月 LIVE
DESCRIPTION:■ギター弾き語り\n君の微笑(浜田省吾)\n風よ (
 藤井風\n心の瞳 (坂本九)\nふるさと\n\nごあいさつ\n芸術
 の秋、みなさんはどんな歌を心に思い浮かべますか？
 今回も今の季節を感じられ、心が癒される素敵な曲を
 お届けします。\n
ATTACH;FMTTYPE=image/jpeg:https://www.music-live.jp/wp-content/uploads/202
 5/10/202510-min.jpg
CATEGORIES:Rock・Pops
LOCATION:霧や櫻や\, 国分野口西456-1.\, 霧島市\, 鹿児島県\, 
 899-4343\, 日本
GEO:31.74196;130.747037
X-APPLE-STRUCTURED-LOCATION;VALUE=URI;X-ADDRESS=国分野口西456-1.\, 霧
 島市\, 鹿児島県\, 899-4343\, 日本;X-APPLE-RADIUS=100;X-TITLE=霧
 や櫻や:geo:31.74196,130.747037
END:VEVENT
BEGIN:VTIMEZONE
TZID:Asia/Tokyo
X-LIC-LOCATION:Asia/Tokyo
BEGIN:STANDARD
DTSTART:20241012T150000
TZOFFSETFROM:+0900
TZOFFSETTO:+0900
TZNAME:JST
END:STANDARD
END:VTIMEZONE
END:VCALENDAR