BEGIN:VCALENDAR
VERSION:2.0
PRODID:-//wp-events-plugin.com//7.2.3.1//EN
TZID:Asia/Tokyo
X-WR-TIMEZONE:Asia/Tokyo
BEGIN:VEVENT
UID:2051@music-live.jp
DTSTART;TZID=Asia/Tokyo:20251026T173000
DTEND;TZID=Asia/Tokyo:20251026T193000
DTSTAMP:20251005T085011Z
URL:https://www.music-live.jp/events/eventid-104621/
SUMMARY:IKE presents LIFE SONG vol.50 ～ Acoustic Live
DESCRIPTION:IKE presents LIFE SONG vol.50 ～ Acoustic Live
ATTACH;FMTTYPE=image/jpeg:https://www.music-live.jp/wp-content/uploads/202
 5/10/ashita_20251026.jpg
CATEGORIES:Rock・Pops
LOCATION:music&cafe 明日の地図\, 千日町9-17 江口ビル2階\, 鹿
 児島市\, 鹿児島県\, 892-0843\, 日本
GEO:31.588609;130.556373
X-APPLE-STRUCTURED-LOCATION;VALUE=URI;X-ADDRESS=千日町9-17 江口ビル2
 階\, 鹿児島市\, 鹿児島県\, 892-0843\, 日本;X-APPLE-RADIUS=100;X
 -TITLE=music&cafe 明日の地図:geo:31.588609,130.556373
END:VEVENT
BEGIN:VTIMEZONE
TZID:Asia/Tokyo
X-LIC-LOCATION:Asia/Tokyo
BEGIN:STANDARD
DTSTART:20241026T173000
TZOFFSETFROM:+0900
TZOFFSETTO:+0900
TZNAME:JST
END:STANDARD
END:VTIMEZONE
END:VCALENDAR