BEGIN:VCALENDAR
VERSION:2.0
PRODID:-//wp-events-plugin.com//7.2.3.1//EN
TZID:Asia/Tokyo
X-WR-TIMEZONE:Asia/Tokyo
BEGIN:VEVENT
UID:2099@music-live.jp
DTSTART;TZID=Asia/Tokyo:20251018T170000
DTEND;TZID=Asia/Tokyo:20251018T180000
DTSTAMP:20251014T123741Z
URL:https://www.music-live.jp/events/eventid-104719/
SUMMARY:曽我部泰紀(Sax)×田島良一(Pf)×上村信(Ba)×塚田陽太
 (Ds)@CITY・NIGHT STAGE(センテラススクエア)【Kagoshima Jazz Fest
 ival 2025】
DESCRIPTION:■Kagoshima Jazz Festivalとは\n今年で9回目を迎えるK
 agoshima Jazz Festival（鹿児島ジャズフェスティバル）は、2
 017年に始まったジャズフェスティバルで鹿児島市内の
 複数の会場で開催されるジャズ音楽の祭典です。\n※ス
 ケジュールは予告なく変更される場合がございます。
 正確なスケジュールは公式サイト（Kagoshima Jazz Festival 20
 25）でご確認ください。
ATTACH;FMTTYPE=image/jpeg:https://www.music-live.jp/wp-content/uploads/202
 5/10/jazzfes_2025-48.jpg
CATEGORIES:Jazz
LOCATION:センテラススクエア\, 千日町1-1 センテラス天文
 館\, 鹿児島市\, 鹿児島県\, 892-0843\, 日本
GEO:31.590178;130.554739
X-APPLE-STRUCTURED-LOCATION;VALUE=URI;X-ADDRESS=千日町1-1 センテラ
 ス天文館\, 鹿児島市\, 鹿児島県\, 892-0843\, 日本;X-APPLE-RAD
 IUS=100;X-TITLE=センテラススクエア:geo:31.590178,130.554739
END:VEVENT
BEGIN:VTIMEZONE
TZID:Asia/Tokyo
X-LIC-LOCATION:Asia/Tokyo
BEGIN:STANDARD
DTSTART:20241018T170000
TZOFFSETFROM:+0900
TZOFFSETTO:+0900
TZNAME:JST
END:STANDARD
END:VTIMEZONE
END:VCALENDAR