BEGIN:VCALENDAR
VERSION:2.0
PRODID:-//wp-events-plugin.com//7.2.3.1//EN
TZID:Asia/Tokyo
X-WR-TIMEZONE:Asia/Tokyo
BEGIN:VEVENT
UID:2104@music-live.jp
DTSTART;TZID=Asia/Tokyo:20251018T190000
DTEND;TZID=Asia/Tokyo:20251018T194500
DTSTAMP:20251014T123917Z
URL:https://www.music-live.jp/events/eventid-104729/
SUMMARY:村田千紘(Tp)×石田幹雄(Pf)×金森もとい(Ba)×塚田陽
 太(Ds)@NIGHT STAGE(銀座通り光学堂前)【Kagoshima Jazz Festival 20
 25】
DESCRIPTION:■Kagoshima Jazz Festivalとは\n今年で9回目を迎えるK
 agoshima Jazz Festival（鹿児島ジャズフェスティバル）は、2
 017年に始まったジャズフェスティバルで鹿児島市内の
 複数の会場で開催されるジャズ音楽の祭典です。\n※ス
 ケジュールは予告なく変更される場合がございます。
 正確なスケジュールは公式サイト（Kagoshima Jazz Festival 20
 25）でご確認ください。
ATTACH;FMTTYPE=image/jpeg:https://www.music-live.jp/wp-content/uploads/202
 5/10/jazzfes_2025-53.jpg
CATEGORIES:Jazz
LOCATION:銀座通り 光学堂前\, 千日町13-18\, 鹿児島市\, 鹿児
 島県\, 892-0843\, 日本
GEO:31.588531;130.556767
X-APPLE-STRUCTURED-LOCATION;VALUE=URI;X-ADDRESS=千日町13-18\, 鹿児島
 市\, 鹿児島県\, 892-0843\, 日本;X-APPLE-RADIUS=100;X-TITLE=銀座
 通り 光学堂前:geo:31.588531,130.556767
END:VEVENT
BEGIN:VTIMEZONE
TZID:Asia/Tokyo
X-LIC-LOCATION:Asia/Tokyo
BEGIN:STANDARD
DTSTART:20241018T190000
TZOFFSETFROM:+0900
TZOFFSETTO:+0900
TZNAME:JST
END:STANDARD
END:VTIMEZONE
END:VCALENDAR