BEGIN:VCALENDAR
VERSION:2.0
PRODID:-//wp-events-plugin.com//7.2.3.1//EN
TZID:Asia/Tokyo
X-WR-TIMEZONE:Asia/Tokyo
BEGIN:VEVENT
UID:2110@music-live.jp
DTSTART;TZID=Asia/Tokyo:20251019T140000
DTEND;TZID=Asia/Tokyo:20251019T150000
DTSTAMP:20251014T124129Z
URL:https://www.music-live.jp/events/eventid-104742/
SUMMARY:池田篤(Sax)×石田幹雄(Pf)×金子義浩(Ba)×香月宏文(Ds
 )@PARK STAGE(天文館公園)【Kagoshima Jazz Festival 2025】
DESCRIPTION:■Kagoshima Jazz Festivalとは\n今年で9回目を迎えるK
 agoshima Jazz Festival（鹿児島ジャズフェスティバル）は、2
 017年に始まったジャズフェスティバルで鹿児島市内の
 複数の会場で開催されるジャズ音楽の祭典です。\n※ス
 ケジュールは予告なく変更される場合がございます。
 正確なスケジュールは公式サイト（Kagoshima Jazz Festival 20
 25）でご確認ください。
ATTACH;FMTTYPE=image/jpeg:https://www.music-live.jp/wp-content/uploads/202
 5/10/jazzfes_2025-60.jpg
CATEGORIES:Jazz
LOCATION:天文館公園\, 千日町9-30\, 鹿児島市\, 鹿児島県\, 89
 2-0843\, 日本
GEO:31.588154;130.555778
X-APPLE-STRUCTURED-LOCATION;VALUE=URI;X-ADDRESS=千日町9-30\, 鹿児島
 市\, 鹿児島県\, 892-0843\, 日本;X-APPLE-RADIUS=100;X-TITLE=天文
 館公園:geo:31.588154,130.555778
END:VEVENT
BEGIN:VTIMEZONE
TZID:Asia/Tokyo
X-LIC-LOCATION:Asia/Tokyo
BEGIN:STANDARD
DTSTART:20241019T140000
TZOFFSETFROM:+0900
TZOFFSETTO:+0900
TZNAME:JST
END:STANDARD
END:VTIMEZONE
END:VCALENDAR