BEGIN:VCALENDAR
VERSION:2.0
PRODID:-//wp-events-plugin.com//7.2.3.1//EN
TZID:Asia/Tokyo
X-WR-TIMEZONE:Asia/Tokyo
BEGIN:VEVENT
UID:2149@music-live.jp
DTSTART;TZID=Asia/Tokyo:20251026T160000
DTEND;TZID=Asia/Tokyo:20251026T160000
DTSTAMP:20251031T133620Z
URL:https://www.music-live.jp/events/eventid-104833/
SUMMARY:岩下よしひろ(Vo/Gt) ボサノヴァライブ@bocchi
DESCRIPTION:岩下よしひろ ボサノヴァライブ\nBossa Nova &amp\; 
 Jazz\nプログラム（予定）\n・イパネマの娘\n・ウェーブ\
 n・黒いオルフェ\n・コルコヴァード\n・おいしい水\n・
 フライ・ミー・トゥ・ザ・ムーン\n・ザ・ギフト\n・瑠
 璃色のオリジナル ほか
ATTACH;FMTTYPE=image/jpeg:https://www.music-live.jp/wp-content/uploads/202
 5/10/boch_20251026.jpg
CATEGORIES:Bossa Nova
LOCATION:bocchi(ボッチ)\, 本町4-16-2F\, 鹿屋市\, 鹿児島県\, 893
 -0002\, 日本
GEO:31.386246;130.852892
X-APPLE-STRUCTURED-LOCATION;VALUE=URI;X-ADDRESS=本町4-16-2F\, 鹿屋市\,
  鹿児島県\, 893-0002\, 日本;X-APPLE-RADIUS=100;X-TITLE=bocchi(ボッ
 チ):geo:31.386246,130.852892
END:VEVENT
BEGIN:VTIMEZONE
TZID:Asia/Tokyo
X-LIC-LOCATION:Asia/Tokyo
BEGIN:STANDARD
DTSTART:20241026T160000
TZOFFSETFROM:+0900
TZOFFSETTO:+0900
TZNAME:JST
END:STANDARD
END:VTIMEZONE
END:VCALENDAR