BEGIN:VCALENDAR
VERSION:2.0
PRODID:-//wp-events-plugin.com//7.2.3.1//EN
TZID:Asia/Tokyo
X-WR-TIMEZONE:Asia/Tokyo
BEGIN:VEVENT
UID:2188@music-live.jp
DTSTART;TZID=Asia/Tokyo:20251206T190000
DTEND;TZID=Asia/Tokyo:20251206T210000
DTSTAMP:20251117T125407Z
URL:https://www.music-live.jp/events/eventid-104928/
SUMMARY:上原美穂(Vo) × 田島良一(Pf) JAZZ DUO LIVE
DESCRIPTION:
ATTACH;FMTTYPE=image/jpeg:https://www.music-live.jp/wp-content/uploads/202
 5/11/akuneya_20251206.jpg
CATEGORIES:Jazz
LOCATION:にぎわい交流館阿久根駅\, 栄町1\, 阿久根市\, 鹿
 児島県\, 899-1616\, 日本
GEO:32.022631;130.195954
X-APPLE-STRUCTURED-LOCATION;VALUE=URI;X-ADDRESS=栄町1\, 阿久根市\, 
 鹿児島県\, 899-1616\, 日本;X-APPLE-RADIUS=100;X-TITLE=にぎわい
 交流館阿久根駅:geo:32.022631,130.195954
END:VEVENT
BEGIN:VTIMEZONE
TZID:Asia/Tokyo
X-LIC-LOCATION:Asia/Tokyo
BEGIN:STANDARD
DTSTART:20241206T190000
TZOFFSETFROM:+0900
TZOFFSETTO:+0900
TZNAME:JST
END:STANDARD
END:VTIMEZONE
END:VCALENDAR