BEGIN:VCALENDAR
VERSION:2.0
PRODID:-//wp-events-plugin.com//7.2.3.1//EN
TZID:Asia/Tokyo
X-WR-TIMEZONE:Asia/Tokyo
BEGIN:VEVENT
UID:2191@music-live.jp
DTSTART;TZID=Asia/Tokyo:20251213T160000
DTEND;TZID=Asia/Tokyo:20251213T180000
DTSTAMP:20251118T125608Z
URL:https://www.music-live.jp/events/eventid-104933/
SUMMARY:HIRAKU TERRACE CONCERT 市原ひかり(Vo/Tp)×松本圭使(Pf) DUO
  LIVE
DESCRIPTION:DUO – ジャズで華やぐ ひらくテラス\nHiraku Terrac
 e Concert
ATTACH;FMTTYPE=image/jpeg:https://www.music-live.jp/wp-content/uploads/202
 5/11/20251213-1024x690-1.jpg
CATEGORIES:Jazz
LOCATION:ひらくテラス\, 開聞仙田2307\, 指宿市\, 鹿児島県\,
  891-0604\, 日本
GEO:31.21084;130.549199
X-APPLE-STRUCTURED-LOCATION;VALUE=URI;X-ADDRESS=開聞仙田2307\, 指宿
 市\, 鹿児島県\, 891-0604\, 日本;X-APPLE-RADIUS=100;X-TITLE=ひら
 くテラス:geo:31.21084,130.549199
END:VEVENT
BEGIN:VTIMEZONE
TZID:Asia/Tokyo
X-LIC-LOCATION:Asia/Tokyo
BEGIN:STANDARD
DTSTART:20241213T160000
TZOFFSETFROM:+0900
TZOFFSETTO:+0900
TZNAME:JST
END:STANDARD
END:VTIMEZONE
END:VCALENDAR