BEGIN:VCALENDAR
VERSION:2.0
PRODID:-//wp-events-plugin.com//7.2.3.1//EN
TZID:Asia/Tokyo
X-WR-TIMEZONE:Asia/Tokyo
BEGIN:VEVENT
UID:2247@music-live.jp
DTSTART;TZID=Asia/Tokyo:20260117T160000
DTEND;TZID=Asia/Tokyo:20260117T173000
DTSTAMP:20260109T130232Z
URL:https://www.music-live.jp/events/eventid-105060/
SUMMARY:森川美穂(Vo) 鹿児島ライブ～40周年スペシャル 1st s
 tage～
DESCRIPTION:森川美穂デビュー40周年を記念したピアノライ
 ブ。10代、20代の頃の懐かしい楽曲から近年の楽曲まで
 、森川美穂の40年の軌跡を辿ります。どうぞお楽しみに
 ！
ATTACH;FMTTYPE=image/jpeg:https://www.music-live.jp/wp-content/uploads/202
 5/12/702548f00f75bd37a7e7a137b7f3c1e8.jpg
CATEGORIES:Rock・Pops
LOCATION:Jazz Spot Lileth（ジャズスポット・リレット）\, 千
 日町9-4 天文館Kビル 4F\, 鹿児島市\, 鹿児島県\, 892-0843\, 
 日本
GEO:31.588582;130.555485
X-APPLE-STRUCTURED-LOCATION;VALUE=URI;X-ADDRESS=千日町9-4 天文館Kビ
 ル 4F\, 鹿児島市\, 鹿児島県\, 892-0843\, 日本;X-APPLE-RADIUS=10
 0;X-TITLE=Jazz Spot Lileth（ジャズスポット・リレット）:geo:3
 1.588582,130.555485
END:VEVENT
BEGIN:VTIMEZONE
TZID:Asia/Tokyo
X-LIC-LOCATION:Asia/Tokyo
BEGIN:STANDARD
DTSTART:20250117T160000
TZOFFSETFROM:+0900
TZOFFSETTO:+0900
TZNAME:JST
END:STANDARD
END:VTIMEZONE
END:VCALENDAR