BEGIN:VCALENDAR
VERSION:2.0
PRODID:-//wp-events-plugin.com//7.2.3.1//EN
TZID:Asia/Tokyo
X-WR-TIMEZONE:Asia/Tokyo
BEGIN:VEVENT
UID:2249@music-live.jp
DTSTART;TZID=Asia/Tokyo:20260129T193000
DTEND;TZID=Asia/Tokyo:20260129T230000
DTSTAMP:20260109T131442Z
URL:https://www.music-live.jp/events/eventid-105064/
SUMMARY:山下俊輔(Gt) ニューアルバム「ZONE」発売記念ツア
 ー in 鹿児島
DESCRIPTION:クラシックギターが紡ぐ繊細な響きと、胸の奥
 に届く深い感情表現。\nその音色が物語の扉を開く。\n
 山下俊輔《ZONE》へ。
ATTACH;FMTTYPE=image/jpeg:https://www.music-live.jp/wp-content/uploads/202
 5/12/7bbc8452db838b763d1c93736808986c.jpg
CATEGORIES:Rock・Pops
LOCATION:Jazz Spot Lileth（ジャズスポット・リレット）\, 千
 日町9-4 天文館Kビル 4F\, 鹿児島市\, 鹿児島県\, 892-0843\, 
 日本
GEO:31.588582;130.555485
X-APPLE-STRUCTURED-LOCATION;VALUE=URI;X-ADDRESS=千日町9-4 天文館Kビ
 ル 4F\, 鹿児島市\, 鹿児島県\, 892-0843\, 日本;X-APPLE-RADIUS=10
 0;X-TITLE=Jazz Spot Lileth（ジャズスポット・リレット）:geo:3
 1.588582,130.555485
END:VEVENT
BEGIN:VTIMEZONE
TZID:Asia/Tokyo
X-LIC-LOCATION:Asia/Tokyo
BEGIN:STANDARD
DTSTART:20250129T193000
TZOFFSETFROM:+0900
TZOFFSETTO:+0900
TZNAME:JST
END:STANDARD
END:VTIMEZONE
END:VCALENDAR