BEGIN:VCALENDAR
VERSION:2.0
PRODID:-//wp-events-plugin.com//7.2.3.1//EN
TZID:Asia/Tokyo
X-WR-TIMEZONE:Asia/Tokyo
BEGIN:VEVENT
UID:2261@music-live.jp
DTSTART;TZID=Asia/Tokyo:20260112T150000
DTEND;TZID=Asia/Tokyo:20260112T170000
DTSTAMP:20260104T024931Z
URL:https://www.music-live.jp/events/eventid-105086/
SUMMARY:SHIGEKI OKUBO(Ds) TRIO LIVE@Cafe J
DESCRIPTION:SHIGEKI OKUBO TRIO LIVE\n大久保重樹(Ds)トリオ｜オリ
 ジナルアルバム リリースライブ\n\nドラマー 大久保重
 樹 初のオリジナルアルバム発売を前にレコーディング
 メンバーによるライブ開催決定。
ATTACH;FMTTYPE=image/jpeg:https://www.music-live.jp/wp-content/uploads/202
 6/01/j_20260112.jpg
CATEGORIES:Jazz
LOCATION:Cafe J\, 伊集院町徳重402-2\, 日置市\, 鹿児島県\, 899-
 2502\, 日本
GEO:31.629164;130.395838
X-APPLE-STRUCTURED-LOCATION;VALUE=URI;X-ADDRESS=伊集院町徳重402-2\, 
 日置市\, 鹿児島県\, 899-2502\, 日本;X-APPLE-RADIUS=100;X-TITLE=Ca
 fe J:geo:31.629164,130.395838
END:VEVENT
BEGIN:VTIMEZONE
TZID:Asia/Tokyo
X-LIC-LOCATION:Asia/Tokyo
BEGIN:STANDARD
DTSTART:20250112T150000
TZOFFSETFROM:+0900
TZOFFSETTO:+0900
TZNAME:JST
END:STANDARD
END:VTIMEZONE
END:VCALENDAR