BEGIN:VCALENDAR
VERSION:2.0
PRODID:-//wp-events-plugin.com//7.2.3.1//EN
TZID:Asia/Tokyo
X-WR-TIMEZONE:Asia/Tokyo
BEGIN:VEVENT
UID:2265@music-live.jp
DTSTART;TZID=Asia/Tokyo:20260124T130000
DTEND;TZID=Asia/Tokyo:20260124T150000
DTSTAMP:20260107T132054Z
URL:https://www.music-live.jp/events/eventid-105098/
SUMMARY:Jazz Live for Kids@KAGOSHIMA IPANEMA
DESCRIPTION:子供たちにジャズを知ってもらうために\n楽器
 を練習中またはジャズに興味のある小中高生を対象に\n
 無料の演奏会を開催いたします！\n演奏者はテナーサッ
 クスの竹内直さんをはじめ日本各地で活動するプレイ
 ヤー揃いです、是非ご参加下さい\nご希望の方はQRコー
 ド、又はメールでお申込み下さい\n定員になり次第、募
 集終了となります（先着20名、保護者可）
ATTACH;FMTTYPE=image/jpeg:https://www.music-live.jp/wp-content/uploads/202
 6/01/ipanema_20260124-1.jpg
CATEGORIES:Jazz
LOCATION:BAR IPANEMA\, 東千石町5-17 イパネマ(BAR IPANEMA)\, 鹿児
 島市\, 鹿児島県\, 892-0842\, 日本
GEO:31.592466;130.553792
X-APPLE-STRUCTURED-LOCATION;VALUE=URI;X-ADDRESS=東千石町5-17 イパネ
 マ(BAR IPANEMA)\, 鹿児島市\, 鹿児島県\, 892-0842\, 日本;X-APPLE
 -RADIUS=100;X-TITLE=BAR IPANEMA:geo:31.592466,130.553792
END:VEVENT
BEGIN:VTIMEZONE
TZID:Asia/Tokyo
X-LIC-LOCATION:Asia/Tokyo
BEGIN:STANDARD
DTSTART:20250124T130000
TZOFFSETFROM:+0900
TZOFFSETTO:+0900
TZNAME:JST
END:STANDARD
END:VTIMEZONE
END:VCALENDAR