BEGIN:VCALENDAR
VERSION:2.0
PRODID:-//wp-events-plugin.com//7.2.3.1//EN
TZID:Asia/Tokyo
X-WR-TIMEZONE:Asia/Tokyo
BEGIN:VEVENT
UID:2267@music-live.jp
DTSTART;TZID=Asia/Tokyo:20260112T163000
DTEND;TZID=Asia/Tokyo:20260112T200000
DTSTAMP:20260109T133952Z
URL:https://www.music-live.jp/events/eventid-105103/
SUMMARY:インテリア LIVE 2026 ~ 新年会だよ!全員集合 ~
DESCRIPTION:
ATTACH;FMTTYPE=image/jpeg:https://www.music-live.jp/wp-content/uploads/202
 6/01/caparvo_20260112.jpg
CATEGORIES:Bossa Nova,Rock・Pops
LOCATION:SR HALL.\, 東千石町3-4-1 キャパルボビル 7F\, 鹿児島
 市\, 鹿児島県\, 892-0842\, 日本
GEO:31.590733;130.551792
X-APPLE-STRUCTURED-LOCATION;VALUE=URI;X-ADDRESS=東千石町3-4-1 キャパ
 ルボビル 7F\, 鹿児島市\, 鹿児島県\, 892-0842\, 日本;X-APPLE-
 RADIUS=100;X-TITLE=SR HALL.:geo:31.590733,130.551792
END:VEVENT
BEGIN:VTIMEZONE
TZID:Asia/Tokyo
X-LIC-LOCATION:Asia/Tokyo
BEGIN:STANDARD
DTSTART:20250112T163000
TZOFFSETFROM:+0900
TZOFFSETTO:+0900
TZNAME:JST
END:STANDARD
END:VTIMEZONE
END:VCALENDAR