BEGIN:VCALENDAR
VERSION:2.0
PRODID:-//wp-events-plugin.com//7.2.3.1//EN
TZID:Asia/Tokyo
X-WR-TIMEZONE:Asia/Tokyo
BEGIN:VEVENT
UID:2269@music-live.jp
DTSTART;TZID=Asia/Tokyo:20260120T193000
DTEND;TZID=Asia/Tokyo:20260120T213000
DTSTAMP:20260109T135145Z
URL:https://www.music-live.jp/events/eventid-105107/
SUMMARY:古地克成(Ds) カルテットツアー@串木野PARGON
DESCRIPTION:
ATTACH;FMTTYPE=image/jpeg:https://www.music-live.jp/wp-content/uploads/202
 6/01/paragon_20260120.jpg
CATEGORIES:Jazz
LOCATION:Jazz&Coffee パラゴン\, 昭和通102\, いちき串木野市\, 
 鹿児島県\, 896-0026\, 日本
GEO:31.715181;130.270875
X-APPLE-STRUCTURED-LOCATION;VALUE=URI;X-ADDRESS=昭和通102\, いちき串
 木野市\, 鹿児島県\, 896-0026\, 日本;X-APPLE-RADIUS=100;X-TITLE=Ja
 zz&Coffee パラゴン:geo:31.715181,130.270875
END:VEVENT
BEGIN:VTIMEZONE
TZID:Asia/Tokyo
X-LIC-LOCATION:Asia/Tokyo
BEGIN:STANDARD
DTSTART:20250120T193000
TZOFFSETFROM:+0900
TZOFFSETTO:+0900
TZNAME:JST
END:STANDARD
END:VTIMEZONE
END:VCALENDAR