BEGIN:VCALENDAR
VERSION:2.0
PRODID:-//wp-events-plugin.com//7.2.3.1//EN
TZID:Asia/Tokyo
X-WR-TIMEZONE:Asia/Tokyo
BEGIN:VEVENT
UID:2342@music-live.jp
DTSTART;TZID=Asia/Tokyo:20260307T183000
DTEND;TZID=Asia/Tokyo:20260307T210000
DTSTAMP:20260303T122027Z
URL:https://www.music-live.jp/events/eventid-105261/
SUMMARY:Vol.75 ジャムセッション@順刻堂
DESCRIPTION:・4ビートを中心に、楽器ごとに交代します。\n
 ・ピアノ、ドラム、ギター・ベースアンプは、当店で
 準備いたします。\n・ボーカルの方は、楽譜を3枚御準
 備ください。\n・マイクを必要の方は、事前に御連絡く
 ださい。\n\n課題曲\n・サテンドール\n・Bbのブルース
ATTACH;FMTTYPE=image/jpeg:https://www.music-live.jp/wp-content/uploads/202
 6/03/jyunkoku_20260307.jpg
CATEGORIES:Jazz
LOCATION:ジャズ喫茶 順刻堂\, 春山町1913-6\, 鹿児島市\, 鹿
 児島県\, 899-2704\, 日本
GEO:31.581629;130.455234
X-APPLE-STRUCTURED-LOCATION;VALUE=URI;X-ADDRESS=春山町1913-6\, 鹿児島
 市\, 鹿児島県\, 899-2704\, 日本;X-APPLE-RADIUS=100;X-TITLE=ジャ
 ズ喫茶 順刻堂:geo:31.581629,130.455234
END:VEVENT
BEGIN:VTIMEZONE
TZID:Asia/Tokyo
X-LIC-LOCATION:Asia/Tokyo
BEGIN:STANDARD
DTSTART:20250307T183000
TZOFFSETFROM:+0900
TZOFFSETTO:+0900
TZNAME:JST
END:STANDARD
END:VTIMEZONE
END:VCALENDAR