BEGIN:VCALENDAR
VERSION:2.0
PRODID:-//wp-events-plugin.com//7.2.3.1//EN
TZID:Asia/Tokyo
X-WR-TIMEZONE:Asia/Tokyo
BEGIN:VEVENT
UID:2345@music-live.jp
DTSTART;TZID=Asia/Tokyo:20260317T190000
DTEND;TZID=Asia/Tokyo:20260317T210000
DTSTAMP:20260303T124808Z
URL:https://www.music-live.jp/events/eventid-105267/
SUMMARY:サキソフォビア SAXOPHOBIA - 九州ツアー2026@鹿児島
DESCRIPTION:
ATTACH;FMTTYPE=image/jpeg:https://www.music-live.jp/wp-content/uploads/202
 6/03/mojo_20260317.jpg
CATEGORIES:Jazz
LOCATION:Bar MOJO\, 東千石町8-29\, 鹿児島市\, 鹿児島県\, 892-08
 42\, 日本
GEO:31.591388;130.553204
X-APPLE-STRUCTURED-LOCATION;VALUE=URI;X-ADDRESS=東千石町8-29\, 鹿児
 島市\, 鹿児島県\, 892-0842\, 日本;X-APPLE-RADIUS=100;X-TITLE=Bar M
 OJO:geo:31.591388,130.553204
END:VEVENT
BEGIN:VTIMEZONE
TZID:Asia/Tokyo
X-LIC-LOCATION:Asia/Tokyo
BEGIN:STANDARD
DTSTART:20250317T190000
TZOFFSETFROM:+0900
TZOFFSETTO:+0900
TZNAME:JST
END:STANDARD
END:VTIMEZONE
END:VCALENDAR