BEGIN:VCALENDAR
VERSION:2.0
PRODID:-//wp-events-plugin.com//7.2.3.1//EN
TZID:Asia/Tokyo
X-WR-TIMEZONE:Asia/Tokyo
BEGIN:VEVENT
UID:2426@music-live.jp
DTSTART;TZID=Asia/Tokyo:20260204T193000
DTEND;TZID=Asia/Tokyo:20260204T213000
DTSTAMP:20260415T130355Z
URL:https://www.music-live.jp/events/eventid-105438/
SUMMARY:ジミー入枝の企みシリーズ 顔を合わすことは大事
 ね
DESCRIPTION:ジミー入枝の企みシリーズ\nKAO wo AWASUKOTO wa DAIJI
  ne\nThe Importance of Meeting Face to Face\nTsuki-ni Ichido-no Otanoshimi
 （月に一度のお楽しみ）
ATTACH;FMTTYPE=image/jpeg:https://www.music-live.jp/wp-content/uploads/202
 6/04/wickys_20260204.jpg
CATEGORIES:Rock・Pops
LOCATION:ウィッキーズ・ハウス(WICKY'S HOUSE）\, 東千石町9-7 
 若松ビル B1F\, 鹿児島市\, 鹿児島県\, 892-0842\, 日本
GEO:31.591137;130.553519
X-APPLE-STRUCTURED-LOCATION;VALUE=URI;X-ADDRESS=東千石町9-7 若松ビ
 ル B1F\, 鹿児島市\, 鹿児島県\, 892-0842\, 日本;X-APPLE-RADIUS=1
 00;X-TITLE=ウィッキーズ・ハウス(WICKY'S HOUSE）:geo:31.591137,1
 30.553519
END:VEVENT
BEGIN:VTIMEZONE
TZID:Asia/Tokyo
X-LIC-LOCATION:Asia/Tokyo
BEGIN:STANDARD
DTSTART:20250204T193000
TZOFFSETFROM:+0900
TZOFFSETTO:+0900
TZNAME:JST
END:STANDARD
END:VTIMEZONE
END:VCALENDAR