BEGIN:VCALENDAR
VERSION:2.0
PRODID:-//wp-events-plugin.com//7.2.3.1//EN
TZID:Asia/Tokyo
X-WR-TIMEZONE:Asia/Tokyo
BEGIN:VEVENT
UID:2430@music-live.jp
DTSTART;TZID=Asia/Tokyo:20260506T140000
DTEND;TZID=Asia/Tokyo:20260506T160000
DTSTAMP:20260415T132710Z
URL:https://www.music-live.jp/events/eventid-105446/
SUMMARY:石堂優二郎チューバリサイタル
DESCRIPTION:射し込む光、仲間と奏でる現在を愛おしむ。\n
 今、最も分かち合いたい音楽をみなさまへ。\n\nプログ
 ラム\n黒潮の使い／酒井格\nAllegro Sonata / T.Marques\nTuba Tige
 r Rag / Harry Decosta
ATTACH;FMTTYPE=image/jpeg:https://www.music-live.jp/wp-content/uploads/202
 6/04/sanail_20260506.jpg
CATEGORIES:Classic,その他
LOCATION:サンエールかごしま\, 荒田1丁目4-1 サンエールか
 ごしま\, 鹿児島市\, 鹿児島県\, 890-0054\, 日本
GEO:31.577619;130.549267
X-APPLE-STRUCTURED-LOCATION;VALUE=URI;X-ADDRESS=荒田1丁目4-1 サンエ
 ールかごしま\, 鹿児島市\, 鹿児島県\, 890-0054\, 日本;X-APP
 LE-RADIUS=100;X-TITLE=サンエールかごしま:geo:31.577619,130.549267
END:VEVENT
BEGIN:VTIMEZONE
TZID:Asia/Tokyo
X-LIC-LOCATION:Asia/Tokyo
BEGIN:STANDARD
DTSTART:20250506T140000
TZOFFSETFROM:+0900
TZOFFSETTO:+0900
TZNAME:JST
END:STANDARD
END:VTIMEZONE
END:VCALENDAR