BEGIN:VCALENDAR
VERSION:2.0
PRODID:-//wp-events-plugin.com//7.2.3.1//EN
TZID:Asia/Tokyo
X-WR-TIMEZONE:Asia/Tokyo
BEGIN:VEVENT
UID:2431@music-live.jp
DTSTART;TZID=Asia/Tokyo:20260508T193000
DTEND;TZID=Asia/Tokyo:20260508T213000
DTSTAMP:20260415T133527Z
URL:https://www.music-live.jp/events/eventid-105448/
SUMMARY:フランス厨房 旬彩 母の日に贈る晩餐とジャズ～
 感謝を込めて～
DESCRIPTION:
ATTACH;FMTTYPE=image/jpeg:https://www.music-live.jp/wp-content/uploads/202
 6/04/syunsai_20260508.jpg
CATEGORIES:Jazz
LOCATION:フランス厨房 旬彩\, 武1-6-26\, 鹿児島市\, 鹿児島
 県\, 890-0045\, 日本
GEO:31.583267;130.538563
X-APPLE-STRUCTURED-LOCATION;VALUE=URI;X-ADDRESS=武1-6-26\, 鹿児島市\, 
 鹿児島県\, 890-0045\, 日本;X-APPLE-RADIUS=100;X-TITLE=フランス
 厨房 旬彩:geo:31.583267,130.538563
END:VEVENT
BEGIN:VTIMEZONE
TZID:Asia/Tokyo
X-LIC-LOCATION:Asia/Tokyo
BEGIN:STANDARD
DTSTART:20250508T193000
TZOFFSETFROM:+0900
TZOFFSETTO:+0900
TZNAME:JST
END:STANDARD
END:VTIMEZONE
END:VCALENDAR