BEGIN:VCALENDAR
VERSION:2.0
PRODID:-//wp-events-plugin.com//7.2.3.1//EN
TZID:Asia/Tokyo
X-WR-TIMEZONE:Asia/Tokyo
BEGIN:VEVENT
UID:2432@music-live.jp
DTSTART;TZID=Asia/Tokyo:20260504T170000
DTEND;TZID=Asia/Tokyo:20260504T190000
DTSTAMP:20260422T124336Z
URL:https://www.music-live.jp/events/eventid-105451/
SUMMARY:HIRAKU TERRACE CONCERT 和田明(Vo)×松本圭使(Pf) DUO LIVE
DESCRIPTION:初夏、ジャズに涼む
ATTACH;FMTTYPE=image/jpeg:https://www.music-live.jp/wp-content/uploads/202
 6/04/hiraku_20260504.jpg
CATEGORIES:Jazz
LOCATION:ひらくテラス\, 開聞仙田2307\, 指宿市\, 鹿児島県\,
  891-0604\, 日本
GEO:31.21084;130.549199
X-APPLE-STRUCTURED-LOCATION;VALUE=URI;X-ADDRESS=開聞仙田2307\, 指宿
 市\, 鹿児島県\, 891-0604\, 日本;X-APPLE-RADIUS=100;X-TITLE=ひら
 くテラス:geo:31.21084,130.549199
END:VEVENT
BEGIN:VTIMEZONE
TZID:Asia/Tokyo
X-LIC-LOCATION:Asia/Tokyo
BEGIN:STANDARD
DTSTART:20250504T170000
TZOFFSETFROM:+0900
TZOFFSETTO:+0900
TZNAME:JST
END:STANDARD
END:VTIMEZONE
END:VCALENDAR