BEGIN:VCALENDAR
VERSION:2.0
PRODID:-//wp-events-plugin.com//7.2.3.1//EN
TZID:Asia/Tokyo
X-WR-TIMEZONE:Asia/Tokyo
BEGIN:VEVENT
UID:2434@music-live.jp
DTSTART;TZID=Asia/Tokyo:20260523T183000
DTEND;TZID=Asia/Tokyo:20260523T203000
DTSTAMP:20260422T121059Z
URL:https://www.music-live.jp/events/eventid-105455/
SUMMARY:RADIANT BRASS CONCERT [Prelude]
DESCRIPTION:鹿児島を代表する演奏者5名による金管五重奏
 団。\n圧倒的な「個」の技量が緻密に溶け合い、芳醇に
 響き合う唯一無二のアンサンブルを追求。\n熟練のプロ
 が放つ、光り輝く（Radiant）至高のブレンドを鹿児島か
 ら発信する。
ATTACH;FMTTYPE=image/jpeg:https://www.music-live.jp/wp-content/uploads/202
 6/04/sanail_20260523.jpg
CATEGORIES:Classic,Instrumental
LOCATION:サンエールかごしま\, 荒田1丁目4-1 サンエールか
 ごしま\, 鹿児島市\, 鹿児島県\, 890-0054\, 日本
GEO:31.577619;130.549267
X-APPLE-STRUCTURED-LOCATION;VALUE=URI;X-ADDRESS=荒田1丁目4-1 サンエ
 ールかごしま\, 鹿児島市\, 鹿児島県\, 890-0054\, 日本;X-APP
 LE-RADIUS=100;X-TITLE=サンエールかごしま:geo:31.577619,130.549267
END:VEVENT
BEGIN:VTIMEZONE
TZID:Asia/Tokyo
X-LIC-LOCATION:Asia/Tokyo
BEGIN:STANDARD
DTSTART:20250523T183000
TZOFFSETFROM:+0900
TZOFFSETTO:+0900
TZNAME:JST
END:STANDARD
END:VTIMEZONE
END:VCALENDAR