BEGIN:VCALENDAR
VERSION:2.0
PRODID:-//wp-events-plugin.com//7.2.3.1//EN
TZID:Asia/Tokyo
X-WR-TIMEZONE:Asia/Tokyo
BEGIN:VEVENT
UID:2435@music-live.jp
DTSTART;TZID=Asia/Tokyo:20260509T173000
DTEND;TZID=Asia/Tokyo:20260509T210000
DTSTAMP:20260422T130515Z
URL:https://www.music-live.jp/events/eventid-105457/
SUMMARY:神社's JAZZ
DESCRIPTION:神社×音楽 心地よい春の夜を。\n飲食ブース出
 店！アルコールもあり。\n境内にはテーブル席も完備。
 \n飲食とともに音楽をお楽しみください。\n\nタイムテ
 ーブル\n17:00　飲食ブースopen\n17:30　清水小吹奏楽部・
 大龍小金管バンド合同演奏（25min）\n18:15　クラシックst
 age（25min）\n18:50　ジャズstage（30min）\n19:30　コラボstage
 （20min）\n20:00　ジャズstage（45min）\n21:00　終演
ATTACH;FMTTYPE=image/jpeg:https://www.music-live.jp/wp-content/uploads/202
 6/04/yasaka_20260509.jpg
CATEGORIES:Classic,Jazz
LOCATION:薩摩祇園宮 八坂神社\, 清水町26-1\, 鹿児島市\, 鹿
 児島県\, 892-0802\, 日本
GEO:31.605404;130.568294
X-APPLE-STRUCTURED-LOCATION;VALUE=URI;X-ADDRESS=清水町26-1\, 鹿児島
 市\, 鹿児島県\, 892-0802\, 日本;X-APPLE-RADIUS=100;X-TITLE=薩摩
 祇園宮 八坂神社:geo:31.605404,130.568294
END:VEVENT
BEGIN:VTIMEZONE
TZID:Asia/Tokyo
X-LIC-LOCATION:Asia/Tokyo
BEGIN:STANDARD
DTSTART:20250509T173000
TZOFFSETFROM:+0900
TZOFFSETTO:+0900
TZNAME:JST
END:STANDARD
END:VTIMEZONE
END:VCALENDAR