BEGIN:VCALENDAR
VERSION:2.0
PRODID:-//wp-events-plugin.com//7.2.3.1//EN
TZID:Asia/Tokyo
X-WR-TIMEZONE:Asia/Tokyo
BEGIN:VEVENT
UID:2436@music-live.jp
DTSTART;TZID=Asia/Tokyo:20260517T140000
DTEND;TZID=Asia/Tokyo:20260517T160000
DTSTAMP:20260422T120226Z
URL:https://www.music-live.jp/events/eventid-105459/
SUMMARY:石川三鈴(Vo) シャンソンコンサート
DESCRIPTION:日々の喧騒から少し離れて…\n初夏の昼下がり\
 n人生を語り、哀愁を歌う\nシャンソンと懐かしい音楽
 を\n心を込めてあなたに歌います
ATTACH;FMTTYPE=image/jpeg:https://www.music-live.jp/wp-content/uploads/202
 6/04/youf_20260517.jpg
CATEGORIES:その他
LOCATION:You+Fカフェ\, 蒲生町上久徳上久德2632\, 姶良市\, 鹿
 児島県\, 899-5302\, 日本
GEO:31.764063;130.581354
X-APPLE-STRUCTURED-LOCATION;VALUE=URI;X-ADDRESS=蒲生町上久徳上久德
 2632\, 姶良市\, 鹿児島県\, 899-5302\, 日本;X-APPLE-RADIUS=100;X-T
 ITLE=You+Fカフェ:geo:31.764063,130.581354
END:VEVENT
BEGIN:VTIMEZONE
TZID:Asia/Tokyo
X-LIC-LOCATION:Asia/Tokyo
BEGIN:STANDARD
DTSTART:20250517T140000
TZOFFSETFROM:+0900
TZOFFSETTO:+0900
TZNAME:JST
END:STANDARD
END:VTIMEZONE
END:VCALENDAR