BEGIN:VCALENDAR
VERSION:2.0
PRODID:-//wp-events-plugin.com//7.2.3.1//EN
TZID:Asia/Tokyo
X-WR-TIMEZONE:Asia/Tokyo
BEGIN:VEVENT
UID:2437@music-live.jp
DTSTART;TZID=Asia/Tokyo:20260424T190000
DTEND;TZID=Asia/Tokyo:20260424T210000
DTSTAMP:20260422T130015Z
URL:https://www.music-live.jp/events/eventid-105461/
SUMMARY:RENTAROU KUROMATSU Monthly Dinner Live
DESCRIPTION:
ATTACH;FMTTYPE=image/jpeg:https://www.music-live.jp/wp-content/uploads/202
 6/04/minami_20260424.jpg
CATEGORIES:Jazz
LOCATION:Bar&Restaurant みなみ\, 山之口町7-1 ふたば洋装ビル2F
 \, 鹿児島市\, 鹿児島県\, 892-0844\, 日本
GEO:31.587538;130.553668
X-APPLE-STRUCTURED-LOCATION;VALUE=URI;X-ADDRESS=山之口町7-1 ふたば
 洋装ビル2F\, 鹿児島市\, 鹿児島県\, 892-0844\, 日本;X-APPLE-R
 ADIUS=100;X-TITLE=Bar&Restaurant みなみ:geo:31.587538,130.553668
END:VEVENT
BEGIN:VTIMEZONE
TZID:Asia/Tokyo
X-LIC-LOCATION:Asia/Tokyo
BEGIN:STANDARD
DTSTART:20250424T190000
TZOFFSETFROM:+0900
TZOFFSETTO:+0900
TZNAME:JST
END:STANDARD
END:VTIMEZONE
END:VCALENDAR